BEGIN:VCALENDAR
VERSION:2.0
PRODID:-//ChamberMaster//Event Calendar 2.0//EN
METHOD:PUBLISH
X-PUBLISHED-TTL:P3D
REFRESH-INTERVAL:P3D
CALSCALE:GREGORIAN
BEGIN:VEVENT
DTSTART:20260621T140000Z
DTEND:20260622T010000Z
X-MICROSOFT-CDO-ALLDAYEVENT:FALSE
SUMMARY:Village of DeForest - Make Music Day
DESCRIPTION:Make Music Day is here! The Village of DeForest is participating in this global celebration. Launched in 1982 in France as the F te de la Musique\, it is now held on the same day in more than 1\,000 cities in 120 countries.\n\n \n\nMake Music DeForest is preformed by anyone and enjoyed by everyone! Bringing musicians and music enthusiasts of all ages and talents together throughout the community. Make Music is FREE in all ways and open to anyone who wants to participate: anyone can be a musician and anywhere can be a venue. The goal is to see music being played everywhere throughout the community.\n\n \n\nWhether you sign up to be an established Make Music Day performer at a venue or play from the front porch of your home\, the goal is to see music being played everywhere throughout the community.\n\n \n\nVisit https://www.makemusicday.org/deforest/ to learn more about the day and to get involved!
X-ALT-DESC;FMTTYPE=text/html:<div>Make Music Day is here! The Village of DeForest is participating in this global celebration. Launched in 1982 in France as the F&ecirc\;te de la Musique\, it is now held on the same day in more than 1\,000 cities in 120 countries.<br />\n&nbsp\;</div>\n\n<div>Make Music DeForest is preformed by anyone and enjoyed by everyone! Bringing musicians and music enthusiasts of all ages and talents together throughout the community. Make Music is FREE in all ways and open to anyone who wants to participate: anyone can be a musician and anywhere can be a venue. The goal is to see music being played everywhere throughout the community.<br />\n&nbsp\;</div>\n\n<div>Whether you sign up to be an established Make Music Day performer at a venue or play from the front porch of your home\, the goal is to see music being played everywhere throughout the community.<br />\n&nbsp\;</div>\n\n<div>Visit&nbsp\;<a class="x1i10hfl xjbqb8w x1ejq31n x18oe1m7 x1sy0etr xstzfhl x972fbf x10w94by x1qhh985 x14e42zd x9f619 x1ypdohk xt0psk2 x3ct3a4 xdj266r x14z9mp xat24cr x1lziwak xexx8yu xyri2b x18d9i69 x1c1uobl x16tdsg8 x1hl2dhg xggy1nq x1a2a7pz xkrqix3 x1sur9pj x1fey0fg x1s688f" href="https://www.makemusicday.org/deforest/?fbclid=IwZXh0bgNhZW0CMTAAYnJpZBEyZWpldEg2RFo1SXRCUVhGNXNydGMGYXBwX2lkEDIyMjAzOTE3ODgyMDA4OTIAAR6MtCgOt8yprdKpLnisKGs_VWtyAs_Y_7rW8MFmYG0T3aorlC0qKsi3ggLcXA_aem_cmu_ptyD808jgB2QwMPOpg" rel="nofollow noreferrer" style="color: rgb(0\, 100\, 209)\; cursor: pointer\; text-decoration-line: none\; outline: none\; border-inline-width: 0px\; margin-inline: 0px\; text-align: inherit\; border-inline-style: none\; padding-inline: 0px\; -webkit-tap-highlight-color: transparent\; font-weight: 600\; list-style-type: none\; box-sizing: border-box\; touch-action: manipulation\; background-color: transparent\; display: inline\; padding-bottom: 0px\; border-top-style: none\; border-bottom-width: 0px\; border-bottom-style: none\; border-top-width: 0px\; margin-bottom: 0px\; margin-top: 0px\; padding-top: 0px\; font-family: inherit\;" tabindex="0" target="_blank">https://www.makemusicday.org/deforest/</a>&nbsp\;to learn more about the day and to get involved!</div>\n
LOCATION:
UID:e.841.2618
SEQUENCE:3
DTSTAMP:20260420T124532Z
URL:https://business.deforestarea.com/events/details/village-of-deforest-make-music-day-2618
END:VEVENT

END:VCALENDAR
