BEGIN:VCALENDAR
VERSION:2.0
PRODID:-//ChamberMaster//Event Calendar 2.0//EN
METHOD:PUBLISH
X-PUBLISHED-TTL:P3D
REFRESH-INTERVAL:P3D
CALSCALE:GREGORIAN
BEGIN:VEVENT
DTSTART:20251014T173000Z
DTEND:20251014T183000Z
X-MICROSOFT-CDO-ALLDAYEVENT:FALSE
SUMMARY:Perforamnce by Bob Gugel
DESCRIPTION:Bob has been a musician in the area for many years\, playing professionally since he was 14 years old.  He has played at the Fireside Theater\, Lake Windsor County Club\, and is a favorite at the Cornerstone Community Center!  Bob always gets his audience tapping feet and singing along to longtime favorite songs.
X-ALT-DESC;FMTTYPE=text/html:<span style="background:white\;"><span style="color:black\;"><span style="font-size:14.0pt\;">Bob has been a musician in the area for many years\, playing professionally since he was 14 years old. &nbsp\;He has played at the Fireside Theater\, Lake Windsor County Club\, and is a favorite at the Cornerstone Community Center! &nbsp\;Bob always gets his audience tapping feet and singing along to longtime favorite songs.</span></span></span>
LOCATION:505 N. Main Street\, DeForest
UID:e.841.2304
SEQUENCE:3
DTSTAMP:20260423T090713Z
URL:https://business.deforestarea.com/events/details/perforamnce-by-bob-gugel-2304
END:VEVENT

END:VCALENDAR
