BEGIN:VCALENDAR
VERSION:2.0
PRODID:-//ChamberMaster//Event Calendar 2.0//EN
METHOD:PUBLISH
X-PUBLISHED-TTL:P3D
REFRESH-INTERVAL:P3D
CALSCALE:GREGORIAN
BEGIN:VEVENT
DTSTART:20260516T213000Z
DTEND:20260524T000000Z
X-MICROSOFT-CDO-ALLDAYEVENT:FALSE
SUMMARY:Caustic Bingo
DESCRIPTION:Bingo with a LOT of attitude.  An adults only bingo with some lewd some crude\, but lots of laughs.  Cash prizes and drink specials.  Food available.  Not for those easily offended.
X-ALT-DESC;FMTTYPE=text/html:Bingo with a LOT of attitude. &nbsp\;An adults only bingo with some lewd some crude\, but lots of laughs. &nbsp\;Cash prizes and drink specials. &nbsp\;Food available. &nbsp\;Not for those easily offended.
LOCATION:Rock N Wool Winery W7817 Drake Rd Poynette\, WI
UID:e.841.2596
SEQUENCE:3
DTSTAMP:20260424T210712Z
URL:https://business.deforestarea.com/events/details/game-night-and-bourbon-tasting-2596
END:VEVENT

END:VCALENDAR
