BEGIN:VCALENDAR
VERSION:2.0
PRODID:-//ChamberMaster//Event Calendar 2.0//EN
METHOD:PUBLISH
X-PUBLISHED-TTL:P3D
REFRESH-INTERVAL:P3D
CALSCALE:GREGORIAN
BEGIN:VEVENT
DTSTART:20260513T160000Z
DTEND:20260513T163000Z
X-MICROSOFT-CDO-ALLDAYEVENT:FALSE
SUMMARY:Country Financial Ribbon Cutting
DESCRIPTION:Join the DeForest Windsor Area Chamber in welcoming Country Financial\, Paul Knutson to our community!  \n\n\n\nWe'll hold a Ribbon Cutting Ceremony\, short networking opportunity\, and refreshments courtesy of Country Financial!       \n\n\n\nRibbon cuttings are always free to attend.  No need to register but doing so will put you on the email list to receive any updates on details.  All guests welcome\, the more\, the merrier!
X-ALT-DESC;FMTTYPE=text/html:Join the DeForest Windsor Area Chamber in welcoming Country Financial\, Paul Knutson to our community!&nbsp\;&nbsp\;<br />\n<br />\nWe&#39\;ll hold a Ribbon Cutting Ceremony\, short networking opportunity\, and refreshments courtesy of Country Financial!&nbsp\;&nbsp\;&nbsp\;&nbsp\;&nbsp\; &nbsp\;<br />\n<br />\nRibbon cuttings are always free to attend.&nbsp\; No need to register but doing so will put you on the email list to receive any updates on details.&nbsp\; All guests welcome\, the more\, the merrier!&nbsp\;&nbsp\;&nbsp\;&nbsp\;
LOCATION:321 N. Main St. Ste 500\, DeForest\, WI 53532. It's the DMB Building. Use the middle entrance to the building when you arrive.
UID:e.841.3034
SEQUENCE:3
DTSTAMP:20260421T190108Z
URL:https://business.deforestarea.com/events/details/country-financial-ribbon-cutting-3034
END:VEVENT

END:VCALENDAR
