BEGIN:VCALENDAR
VERSION:2.0
PRODID:-//ChamberMaster//Event Calendar 2.0//EN
METHOD:PUBLISH
X-PUBLISHED-TTL:P3D
REFRESH-INTERVAL:P3D
CALSCALE:GREGORIAN
BEGIN:VEVENT
DTSTART:20230523T150000Z
DTEND:20230523T160000Z
X-MICROSOFT-CDO-ALLDAYEVENT:FALSE
SUMMARY:Bell Ford Groundbreaking Celebration
DESCRIPTION:Bell Ford cordially invites you to attend a groundbreaking celebration for the new 16\,530 sq. ft. commercial vehicle repair facility on Tuesday\, May 23rd at 10am!\n\n\n\nThe groundbreaking will be on Industrial Drive\, just south o the Bell Ford Dealership located at 804 Main Street\, in Arlington\, WI.
X-ALT-DESC;FMTTYPE=text/html:<span style="font-size:14px\;"><span style="font-family:arial\;">Bell Ford cordially invites you to attend a groundbreaking celebration for the new 16\,530 sq. ft. commercial vehicle repair facility on Tuesday\, May 23rd at 10am!<br>\n<br>\nThe groundbreaking will be on Industrial Drive\, just south o the Bell Ford Dealership located at 804 Main Street\, in Arlington\, WI.</span></span>
LOCATION:804 Main Street\, in Arlington\, WI.
UID:e.841.1440
SEQUENCE:3
DTSTAMP:20260423T050814Z
URL:https://business.deforestarea.com/events/details/bell-ford-groundbreaking-celebration-1440
END:VEVENT

END:VCALENDAR
