BEGIN:VCALENDAR
VERSION:2.0
PRODID:-//ChamberMaster//Event Calendar 2.0//EN
METHOD:PUBLISH
X-PUBLISHED-TTL:P3D
REFRESH-INTERVAL:P3D
CALSCALE:GREGORIAN
BEGIN:VEVENT
DTSTART;VALUE=DATE:20361128
DTEND;VALUE=DATE:20361129
TRANSP:TRANSPARENT
X-MICROSOFT-CDO-ALLDAYEVENT:TRUE
SUMMARY:Wine for Food
DESCRIPTION:The last Friday of each month\, stop by Rock N Wool Winery and bring a donation for local food pantries and we will reward you with a free glass of wine\, although helping those in need is by far the biggest reward. Shaun\, family and volunteers will transport all donations to local pantries after collection. Please spread the word. Cheers.
X-ALT-DESC;FMTTYPE=text/html:<span style="color:rgb(8\, 8\, 9)\; font-family:system-ui\,-apple-system\,blinkmacsystemfont\,.sfnstext-regular\,sans-serif\; font-size:15px">The last Friday of each month\, stop by Rock N Wool Winery and bring a donation for local food pantries and we will reward you with a free glass of wine\, although helping those in need is by far the biggest reward. Shaun\, family and volunteers will transport all donations to local pantries after collection. Please spread the word. Cheers.</span>
LOCATION:Rock N Wool Winery Poynette\, WI
UID:e.841.3161
SEQUENCE:3
DTSTAMP:20260425T011651Z
URL:http://business.deforestarea.com/events/details/wine-for-food-11-28-2036-3161
END:VEVENT

END:VCALENDAR
