BEGIN:VCALENDAR
VERSION:2.0
PRODID:-//ChamberMaster//Event Calendar 2.0//EN
METHOD:PUBLISH
X-PUBLISHED-TTL:P3D
REFRESH-INTERVAL:P3D
CALSCALE:GREGORIAN
BEGIN:VEVENT
DTSTART:20200930T213000Z
DTEND:20200930T233000Z
X-MICROSOFT-CDO-ALLDAYEVENT:FALSE
SUMMARY:Virtual Community Expo 2020
DESCRIPTION:Join us for the 2020 Community Expo virtually on Wednesday\, September 30th from 4:30-6:30pm!\n\n\n\nThe DeForest Windsor Area Community Expo will be a unique opportunity for businesses & organizations to virtually interact with the residents.\n\n\n\nYou will be able to share what you provide to the community\, promotions & expansions\, along with job & career opportunities available!\n\n\n\nThe Booth Central platform allows your booth to have video\, pictures\, a link to your website along with a live chat indicator. You may have up to five people in you booth chat at a time. You may also have one-on-one conversations\, if you are hiring and want to do interviews.\n\n\n\nWe will provide the forum and audience...you promote your message!
X-ALT-DESC;FMTTYPE=text/html:<span style="font-size:14px\;"><span style="font-family:verdana\;"><strong>Join us for the 2020 Community Expo virtually on Wednesday\, September 30th from 4:30-6:30pm!<br />\n<br />\nThe DeForest Windsor Area Community Expo will be a unique opportunity for businesses &amp\; organizations to virtually interact with the residents.<br />\n<br />\nYou will be able to share what you provide to the community\, promotions &amp\; expansions\, along with job &amp\; career opportunities available!<br />\n<br />\nThe Booth Central platform allows your booth to have video\, pictures\, a link to your website along with a live chat indicator. You may have up to five people in you booth chat at a time. You may also have one-on-one conversations\, if you are hiring and want to do interviews.<br />\n<br />\nWe will provide the forum and audience...you promote your message!</strong></span></span>
LOCATION:Booth Central streaming Live! You can register directly to Booth Central and start creating your booth: https://my.boothcentral.com/v/events/virtual-community-expo-2020 DEMO video
UID:e.841.1105
SEQUENCE:3
DTSTAMP:20260420T061648Z
URL:http://business.deforestarea.com/events/details/virtual-community-expo-2020-1105
END:VEVENT

END:VCALENDAR
