BEGIN:VCALENDAR
VERSION:2.0
PRODID:-//ChamberMaster//Event Calendar 2.0//EN
METHOD:PUBLISH
X-PUBLISHED-TTL:P3D
REFRESH-INTERVAL:P3D
CALSCALE:GREGORIAN
BEGIN:VEVENT
DTSTART:20350501T123000Z
DTEND:20350501T140000Z
X-MICROSOFT-CDO-ALLDAYEVENT:FALSE
SUMMARY:Monthly Business Briefing
DESCRIPTION:June's topic is "Chamber Membership Value and Services" with Luke Justman\, Executive Director\, DeForest Windsor Area Chamber.  Hosted by Pinsocial!\n\n\n\nOur Monthly Events focus on providing value to our members and area businesses while also providing a chance for business leaders to meet and connect.  Sponsor one of these events to get a chance to present to attendees\, on your chosen topic\, support The Chamber\, and build brand recognition all at the same time!  You can also sign up to be an educator for a Chamber preferred topic.  Format is 30 minute check in and networking\, 30 minutes of sponsors and Chamber addresses\, and 30 minutes for an educational speaker.  You're welcome to stay and network after presentations.\n\n\n\nSponsorships keep our events free!\n\n	Tip of the Month Sponsor ($125)   1 per month\n	\n		2 Minute presentation at the event during your month of sponsorship\n		Logo on event website page\n	\n	\n\n\n\n	Monthly Sponsor (Provide meeting location or pay for room cost of meeting)   1 per month\n	\n		2 Minute presentation at event\n		Opportunity to provide handouts\n		Recognition during Chamber Remarks\n		Logo on website and in email newsletter\n	\n	\n	Presenting Sponsor ($1000)   1 per month\n	\n		Industry Exclusive sponsor for said event\n		10 Minutes to present to attendees during event\n		Opportunity to provide handouts\n		Recognition during Chamber Remarks\n		Logo on signage at event\n		Logo on website and in email newsletter\n		Recognition on Social Media platforms (Facebook and LinkedIn).\n		Chamber will provide Projector\, screen\, microphone\, laptop if requested\n	\n	\n\nClaim your topic today and date today!\n\n\n	Business Listing on Google: Techniques and tips\n\n\n\n	Social Media posting for Businesses\n	Workforce Development\n	Small Business Tools\; SBA Lending\, Traditional Commercial Lending\, Business Banking\n	Development Roundtable: Learn the process involved with a proposal in our community\n	Small Business Ownership\n	Don't see an idea for a topic here?  We'd love your input!
X-ALT-DESC;FMTTYPE=text/html:<span style="font-family:aptos\,sans-serif\;"><span style="font-size:12.0pt\;">June&#39\;s topic is &quot\;Chamber Membership Value and Services&quot\; with Luke Justman\, Executive Director\, DeForest Windsor Area Chamber.&nbsp\; Hosted by Pinsocial!<br />\n<br />\nOur Monthly Events focus on providing value to our members and area businesses while also providing a chance for business leaders to meet and connect.&nbsp\; Sponsor one of these events to get a chance to present to attendees\, on your chosen topic\, support The Chamber\, and build brand recognition all at the same time!&nbsp\; You can also sign up to be an educator for a Chamber preferred topic.&nbsp\; Format is 30 minute check in and networking\, 30 minutes of sponsors and Chamber addresses\, and 30 minutes for an educational speaker.&nbsp\; You&rsquo\;re welcome to stay and network after presentations.</span></span><br />\n<br />\n<strong>Sponsorships keep our events free!</strong>\n<ul>\n	<li>Tip of the Month Sponsor ($125) &ndash\; 1 per month\n	<ul>\n		<li>2 Minute presentation at the event during your month of sponsorship</li>\n		<li>Logo on event website page</li>\n	</ul>\n	</li>\n</ul>\n\n<ul>\n	<li>Monthly Sponsor (Provide meeting location or pay for room cost of meeting) &ndash\; 1 per month\n	<ul>\n		<li>2 Minute presentation at event</li>\n		<li>Opportunity to provide handouts</li>\n		<li>Recognition during Chamber Remarks</li>\n		<li>Logo on website and in email newsletter</li>\n	</ul>\n	</li>\n	<li>Presenting Sponsor ($1000) &ndash\; 1 per month\n	<ul>\n		<li>Industry Exclusive sponsor for said event</li>\n		<li>10 Minutes to present to attendees during event</li>\n		<li>Opportunity to provide handouts</li>\n		<li>Recognition during Chamber Remarks</li>\n		<li>Logo on signage at event</li>\n		<li>Logo on website and in email newsletter</li>\n		<li>Recognition on Social Media platforms (Facebook and LinkedIn).</li>\n		<li>Chamber will provide Projector\, screen\, microphone\, laptop if requested</li>\n	</ul>\n	</li>\n</ul>\n<strong>Claim your topic today and date today!</strong>\n\n<ul>\n	<li>Business Listing on Google: Techniques and tips</li>\n</ul>\n\n<ul>\n	<li>Social Media posting for Businesses</li>\n	<li>Workforce Development</li>\n	<li>Small Business Tools\; SBA Lending\, Traditional Commercial Lending\, Business Banking</li>\n	<li>Development Roundtable: Learn the process involved with a proposal in our community</li>\n	<li>Small Business Ownership</li>\n	<li>Don&rsquo\;t see an idea for a topic here?&nbsp\; We&rsquo\;d love your input!</li>\n</ul>\n
LOCATION:Pinsocial DeForest 6909 River Rd\, DeForest\, WI 53532 Maps Link
UID:e.841.3270
SEQUENCE:3
DTSTAMP:20260423T193412Z
URL:http://business.deforestarea.com/events/details/monthly-business-briefing-05-01-2035-3270
END:VEVENT

END:VCALENDAR
