BEGIN:VCALENDAR
VERSION:2.0
PRODID:-//ChamberMaster//Event Calendar 2.0//EN
METHOD:PUBLISH
X-PUBLISHED-TTL:P3D
REFRESH-INTERVAL:P3D
CALSCALE:GREGORIAN
BEGIN:VEVENT
DTSTART:20191022T213000Z
DTEND:20191023T000000Z
X-MICROSOFT-CDO-ALLDAYEVENT:FALSE
SUMMARY:Grand Opening: The Legacy of DeForest
DESCRIPTION:The Legacy of DeForest will have their Grand Opening on Tuesday\, October 22nd from 4:30 - 7:00PM!\n\n\n\nPresentation/Announcements at 5:00pm\, ribbon cutting following.\n\n\n\nStop in to welcome them and take a tour\, meet the staff and see all their amenities! Enjoy live music\, appetizers & drinks!
X-ALT-DESC;FMTTYPE=text/html:<div style="color: rgb(64\, 63\, 66)\; font-family: Arial\, Verdana\, Helvetica\, sans-serif\; font-size: 12px\; white-space: pre-wrap\; background-color: rgb(255\, 255\, 255)\;"><span style="font-size: 16px\; font-weight: bold\;">The Legacy of DeForest will have their Grand Opening on Tuesday\, October 22nd from 4:30 - 7:00PM!<br />\n<br />\nPresentation/Announcements at 5:00pm\, ribbon cutting following.</span></div>\n\n<div style="color: rgb(64\, 63\, 66)\; font-family: Arial\, Verdana\, Helvetica\, sans-serif\; font-size: 12px\; white-space: pre-wrap\; background-color: rgb(255\, 255\, 255)\;"><br />\n<span style="font-size: 16px\; font-weight: bold\;">Stop in to welcome them and take a tour\, meet the staff and see all their amenities! Enjoy live music\, appetizers &amp\; drinks!</span></div>\n
LOCATION:6639 Pederson Crossing\, DeForest
UID:e.841.1043
SEQUENCE:3
DTSTAMP:20260424T111853Z
URL:http://business.deforestarea.com/events/details/grand-opening-the-legacy-of-deforest-1043
END:VEVENT

END:VCALENDAR
