BEGIN:VCALENDAR
VERSION:2.0
PRODID:-//ChamberMaster//Event Calendar 2.0//EN
METHOD:PUBLISH
X-PUBLISHED-TTL:P3D
REFRESH-INTERVAL:P3D
CALSCALE:GREGORIAN
BEGIN:VEVENT
DTSTART:20220520T223000Z
DTEND:20220521T013000Z
X-MICROSOFT-CDO-ALLDAYEVENT:FALSE
SUMMARY:Friday Flicks
DESCRIPTION:DeForest Parks and Recreation presents Friday Flicks. A different themed movie will be shown on the big screen at Fireman's Park The event will start at 5:30pm with food carts and yard games. The movie begins at dusk and admission is free. We remind all movie goers to bring blankets\, lawn chairs\, and bug spray.\n\n\n\nMovie: Encanto
X-ALT-DESC;FMTTYPE=text/html:<span style="font-size:16px\;"><span style="font-family:arial\;"><span style="color: rgb(5\, 5\, 5)\; background-color: rgb(255\, 255\, 255)\;">DeForest Parks and Recreation presents Friday Flicks. A different themed movie will be shown on the big screen at Fireman&#39\;s Park The event will start at 5:30pm with food carts and yard games. The movie begins at dusk and admission is free. We remind all movie goers to bring blankets\, lawn chairs\, and bug spray.</span></span><br />\n<br />\n<strong>Movie: Encanto</strong></span>
LOCATION:Fireman's Park\, DeForest
UID:e.841.1249
SEQUENCE:3
DTSTAMP:20260419T160346Z
URL:http://business.deforestarea.com/events/details/friday-flicks-05-20-2022-1249
END:VEVENT

END:VCALENDAR
