BEGIN:VCALENDAR
VERSION:2.0
PRODID:-//ChamberMaster//Event Calendar 2.0//EN
METHOD:PUBLISH
X-PUBLISHED-TTL:P3D
REFRESH-INTERVAL:P3D
CALSCALE:GREGORIAN
BEGIN:VEVENT
DTSTART:20220623T223000Z
DTEND:20220624T013000Z
X-MICROSOFT-CDO-ALLDAYEVENT:FALSE
SUMMARY:Fri-YAY! Eve
DESCRIPTION:Fri-YAY rebranded for 2022! Friday is here! DeForest Parks and Recreation encourages the community to come out and enjoy a night of live family friendly entertainment at Fireman's Park. Food vendors and beverages will be available to purchase. Bring your blankets\, lawn chairs and relax as we kick off the weekend!\n\n\n\nThe Whiskey Farm
X-ALT-DESC;FMTTYPE=text/html:<span style="font-size:16px\;">Fri-YAY rebranded for 2022!</span><span style="font-family:arial\;">&nbsp\;<span style="color: rgb(5\, 5\, 5)\; font-size: 15px\; background-color: rgb(255\, 255\, 255)\;">Friday is here! DeForest Parks and Recreation encourages the community to come out and enjoy a night of live family friendly entertainment at Fireman&#39\;s Park. Food vendors and beverages will be available to purchase. Bring your blankets\, lawn chairs and relax as we kick off the weekend!<br />\n<br />\nThe Whiskey Farm</span></span>
LOCATION:Fireman's Park
UID:e.841.1255
SEQUENCE:3
DTSTAMP:20260421T124601Z
URL:http://business.deforestarea.com/events/details/fri-yay-eve-1255
END:VEVENT

END:VCALENDAR
