BEGIN:VCALENDAR
VERSION:2.0
PRODID:-//ChamberMaster//Event Calendar 2.0//EN
METHOD:PUBLISH
X-PUBLISHED-TTL:P3D
REFRESH-INTERVAL:P3D
CALSCALE:GREGORIAN
BEGIN:VEVENT
DTSTART:20210705T220000Z
DTEND:20210706T000000Z
X-MICROSOFT-CDO-ALLDAYEVENT:FALSE
SUMMARY:Food Carts in Windsor Parks
DESCRIPTION:Enjoy a family dinner and playtime at Cradle Hill Park\, Windsor\n\n\n\nFeaturing Kona Ice at every event!\n\nFood carts:\n\nPancho's Tacos\n\nEl Alegre\n\nBlowin' Smoke BBQ
X-ALT-DESC;FMTTYPE=text/html:<span style="font-family:arial\;"><span style="font-size:16px\;">Enjoy a family dinner and playtime at Cradle Hill Park\, Windsor<br />\n<br />\nFeaturing Kona Ice at every event!<br />\nFood carts:<br />\nPancho&#39\;s Tacos<br />\nEl Alegre<br />\nBlowin&#39\; Smoke BBQ</span></span>
LOCATION:Food Carts at Cradle Hill Park\, Windsor in Holland Fields Neighborhood
UID:e.841.1139
SEQUENCE:3
DTSTAMP:20260420T100153Z
URL:http://business.deforestarea.com/events/details/food-carts-in-windsor-parks-1139
END:VEVENT

END:VCALENDAR
