BEGIN:VCALENDAR
VERSION:2.0
PRODID:-//ChamberMaster//Event Calendar 2.0//EN
METHOD:PUBLISH
X-PUBLISHED-TTL:P3D
REFRESH-INTERVAL:P3D
CALSCALE:GREGORIAN
BEGIN:VEVENT
DTSTART:20210531T220000Z
DTEND:20210601T000000Z
X-MICROSOFT-CDO-ALLDAYEVENT:FALSE
SUMMARY:Food Carts In Windsor Community Park
DESCRIPTION:Enjoy dinner and playtime in the Windsor Community Park\n\n(in Bear Tree Neighborhood)\n\nFeaturing Kona Ice at every event!\n\nFood Carts: \n\nJolly Frog\n\nSabor Quenetano\n\nLT's Aloha Wagon
X-ALT-DESC;FMTTYPE=text/html:<span style="font-family:arial\;"><span style="font-size:16px\;">Enjoy dinner and playtime in the Windsor Community Park<br />\n(in Bear Tree Neighborhood)<br />\nFeaturing Kona Ice at every event!<br />\nFood Carts:&nbsp\;<br />\nJolly Frog<br />\nSabor Quenetano<br />\nLT&#39\;s Aloha Wagon</span></span>
LOCATION:Windsor Community Park in Bear Tree Neighborhood 6570 Pederson Crossing Blvd.\, Windsor
UID:e.841.1144
SEQUENCE:3
DTSTAMP:20260423T224143Z
URL:http://business.deforestarea.com/events/details/food-carts-in-windsor-community-park-1144
END:VEVENT

END:VCALENDAR
