BEGIN:VCALENDAR
VERSION:2.0
PRODID:-//ChamberMaster//Event Calendar 2.0//EN
METHOD:PUBLISH
X-PUBLISHED-TTL:P3D
REFRESH-INTERVAL:P3D
CALSCALE:GREGORIAN
BEGIN:VEVENT
DTSTART:20200918T231500Z
DTEND:20200919T024500Z
X-MICROSOFT-CDO-ALLDAYEVENT:FALSE
SUMMARY:Fall Drive-In Movie
DESCRIPTION:Come join the Village of DeForest as they host a Fall Drive-In Movie!\n\nThey have limited stalls available but this event is free! RESERVE YOUR SPOT PER VEHICLE! Food carts and bathrooms will be available. No outdoor seating will be allowed due to Dane County Public Health restrictions.\n\n\n\nThis is all possible thanks to our sponsors: REG and Vierbicher.\n\n\n\nReserve one free ticket per vehicle. (https://secure.rec1.com/WI/village-of-deforest-wi/catalog?filter=c2VhcmNoPTEyMjgxMTM= )\n\n175 parking stalls available.\n\nNo outdoor seating allowed.\n\nGuests must arrive by vehicle.\n\nRestrooms will be available.\n\n \nParking lot opens at 6:15pm\, with the movie starting at roughly 7:00pm.
X-ALT-DESC;FMTTYPE=text/html:<div class="kvgmc6g5 cxmmr5t8 oygrvhab hcukyx3x c1et5uql"><span style="font-size:14px\;"><span style="font-family:verdana\;">Come join the Village of DeForest as they host a Fall Drive-In Movie!<br />\nThey have limited stalls available but this event is free! RESERVE YOUR SPOT PER VEHICLE! Food carts and bathrooms will be available. No outdoor seating will be allowed due to Dane County Public Health restrictions.<br />\n<br />\nThis is all possible thanks to our sponsors: REG and Vierbicher.</span></span></div>\n\n<div class="o9v6fnle cxmmr5t8 oygrvhab hcukyx3x c1et5uql"><br />\n<span style="font-size:14px\;"><span style="font-family:verdana\;">Reserve one free ticket per vehicle. (<a class="oajrlxb2 g5ia77u1 qu0x051f esr5mh6w e9989ue4 r7d6kgcz rq0escxv nhd2j8a9 nc684nl6 p7hjln8o kvgmc6g5 cxmmr5t8 oygrvhab hcukyx3x jb3vyjys rz4wbd8a qt6c0cv9 a8nywdso i1ao9s8h esuyzwwr f1sip0of lzcic4wl py34i1dx gpro0wi8" href="https://secure.rec1.com/WI/village-of-deforest-wi/catalog?filter=c2VhcmNoPTEyMjgxMTM%3D&amp\;fbclid=IwAR2Bg3dM7GmhQR_bHel2HBXofLqcJZTZXba_jg47Q67iCrfzNawCX3vkGcA" rel="nofollow noopener" role="link" tabindex="0" target="_blank">https://secure.rec1.com/WI/village-of-deforest-wi/catalog?filter=c2VhcmNoPTEyMjgxMTM=</a> )<br />\n175 parking stalls available.<br />\nNo outdoor seating allowed.<br />\nGuests must arrive by vehicle.<br />\nRestrooms will be available.</span></span></div>\n\n<div class="o9v6fnle cxmmr5t8 oygrvhab hcukyx3x c1et5uql">&nbsp\;</div>\n<span style="font-size:14px\;"><span style="font-family:verdana\;">Parking lot opens at 6:15pm\, with the movie starting at roughly 7:00pm. </span></span>
LOCATION:DeForest Athletic Complex 6750 River Road\, DeForest
UID:e.841.1104
SEQUENCE:3
DTSTAMP:20260420T120327Z
URL:http://business.deforestarea.com/events/details/fall-drive-in-movie-1104
END:VEVENT

END:VCALENDAR
