BEGIN:VCALENDAR
VERSION:2.0
PRODID:-//ChamberMaster//Event Calendar 2.0//EN
METHOD:PUBLISH
X-PUBLISHED-TTL:P3D
REFRESH-INTERVAL:P3D
CALSCALE:GREGORIAN
BEGIN:VEVENT
DTSTART:20240909T160000Z
DTEND:20240909T170000Z
X-MICROSOFT-CDO-ALLDAYEVENT:FALSE
SUMMARY:DWACC Board of Directors Meeting
DESCRIPTION:Our monthly Board of Directors meeting will be held in the Chamber Boardroom at 321 N. Main Street\, DeForest starting at 11am.
X-ALT-DESC;FMTTYPE=text/html:<span style="font-family:arial\;"><span style="font-size:14px\;">Our monthly Board of Directors meeting will be held in the Chamber Boardroom at 321 N. Main Street\, DeForest starting at 11am.&nbsp\;</span></span>
LOCATION:
UID:e.841.1618
SEQUENCE:3
DTSTAMP:20260420T193213Z
URL:http://business.deforestarea.com/events/details/dwacc-board-of-directors-meeting-09-09-2024-1618
END:VEVENT

END:VCALENDAR
