BEGIN:VCALENDAR
VERSION:2.0
PRODID:-//ChamberMaster//Event Calendar 2.0//EN
METHOD:PUBLISH
X-PUBLISHED-TTL:P3D
REFRESH-INTERVAL:P3D
CALSCALE:GREGORIAN
BEGIN:VEVENT
DTSTART:20221218T160000Z
DTEND:20221218T210000Z
X-MICROSOFT-CDO-ALLDAYEVENT:FALSE
SUMMARY:Christmas Craft Fair & Cookie Walk
DESCRIPTION:1st Annual Christmas Craft Fair & Cookie Walk for OccuPaws. Sunday\, December 18th from 10 am to 3 pm at Windsor Elementary School\, 4352 Windsor Road in Windsor\, Wisconsin. Get your last minute Holiday shopping done from more than 40 local crafters & vendors. Run out of time to bake? Not to worry! We will have a huge cookie walk where you can purchase all your favorite cookies\, and pay by the pound\, with 100% going directly to OccuPaws. Learn more about our event at - https://www.facebook.com/events/3263637950631636/
X-ALT-DESC;FMTTYPE=text/html:1st Annual Christmas Craft Fair &amp\; Cookie Walk for OccuPaws. Sunday\, December 18th from 10 am to 3 pm at Windsor Elementary School\, 4352 Windsor Road in Windsor\, Wisconsin. Get your last minute Holiday shopping done from more than 40 local crafters &amp\; vendors. Run out of time to bake? Not to worry! We will have a huge cookie walk where you can purchase all your favorite cookies\, and pay by the pound\, with 100% going directly to OccuPaws. Learn more about our event at - https://www.facebook.com/events/3263637950631636/
LOCATION:Windsor Elementary School 4352 Windsor Road
UID:e.841.1364
SEQUENCE:3
DTSTAMP:20260423T230839Z
URL:http://business.deforestarea.com/events/details/christmas-craft-fair-cookie-walk-1364
END:VEVENT

END:VCALENDAR
