BEGIN:VCALENDAR
VERSION:2.0
PRODID:-//ChamberMaster//Event Calendar 2.0//EN
METHOD:PUBLISH
X-PUBLISHED-TTL:P3D
REFRESH-INTERVAL:P3D
CALSCALE:GREGORIAN
BEGIN:VEVENT
DTSTART;VALUE=DATE:20160703
DTEND;VALUE=DATE:20160705
TRANSP:TRANSPARENT
X-MICROSOFT-CDO-ALLDAYEVENT:TRUE
SUMMARY:4th of July Celebration-2016 Sponsorship
DESCRIPTION:The DeForest Windsor Area Chamber 4th of July Celebration is a tradition with well over 3000 people attending the parade and the 2 day event. It is a terrific opportunity for your business to show a great deal of community support and receive recognition!\n\n\n\nTo download a form\, Click HERE\n\n\n\nAvailable Sponsor Levels:\n\nIndependence Sponsor: $4000+ (Multiple available)\n\n\n	Large logo placed at top of all marketing including 4th of July guide & T-shirts\n	Large logo represented on Independence banner in the parade and at the event\n	Large logo included in 'Thank You' newspaper ad after event\n	Parade & vendor fee waived (if registering for space)\n\nPatriot Sponsor: $1000-$3999 (Multiple available)\n\n\n	Logo placed on all marketing including 4th of July guide & T-shirts\n	Logo represented on Patriot banner in the parade and at the event\n	Logo included in 'Thank You' newspaper ad after event\n\nStars & Stripes Sponsor: $500-$999 (Multiple available)\n\n\n	Small logo placed on all marketing including 4th of July guide & T-shirts\n	Small logo represented on Stars & Stripes banner in the parade and at the event\n	Small logo included in 'Thank You' newspaper ad after event\n\nAvailable Sponsor Items:\n\nFireworks Sponsor: $7000 (Only 1 available)\n\n\n	Large logo on banner in parade and at the event\; Verbal recognition before fireworks\n	Large Logo placed on all marketing including 4th of July guide & T-shirts\n	All Independence Sponsor level benefits\n\nLive Music Sponsor: $1500 (Call for specific band availability)\n\n\n	Logo on Band banner next to stage and in the parade (based on available walkers)\n	All Patriot Level Sponsor benefits\n	Bands include: Shotgun Jane\, Best Practice\, The Retro Specz\, Kings of Radio\n\nFamily Entertainment Sponsor: $300 (Call for specific availability)\n\n\n	Logo on banner next to Family stage and in the parade (based on availability)\n	Opportunities include: Doodle Bug the clown\, Doug The Jug\, Car show\, Inflatables\n\nParade Sponsor: $150 (Call for specific availability)\n\n\n	Logo on banner next to family stage and in the parade (based on availability)\n	Opportunities include: Sun Prairie Community band\, Prairie Thunder Cloggers\, Stilt Walkers\, Madison Pipes & Drums
X-ALT-DESC;FMTTYPE=text/html:<strong><span style="color:#B22222\;">The DeForest Windsor Area Chamber 4th of July Celebration </span></strong>is a tradition with well over 3000 people attending the parade and the 2 day event. It is a terrific opportunity for your business to show a great deal of community support and receive recognition!<br />\n<br />\nTo download a form\, <a href="https://chambermaster.blob.core.windows.net/userfiles/UserFiles/chambers/841/File/Sponsorshipopportunities.pdf">Click HERE</a><br />\n<br />\n<u><strong>Available Sponsor Levels:</strong></u><br />\n<span style="color:#B22222\;"><strong>Independence Sponsor: $4000+ (Multiple available)</strong></span>\n\n<ul>\n	<li>Large logo placed at top of all marketing including 4th of July guide &amp\; T-shirts</li>\n	<li>Large logo represented on Independence banner in the parade and at the event</li>\n	<li>Large logo included in &lsquo\;Thank You&rsquo\; newspaper ad after event</li>\n	<li>Parade &amp\; vendor fee waived (if registering for space)</li>\n</ul>\n<span style="color:#B22222\;"><strong>Patriot Sponsor: $1000-$3999 (Multiple available)</strong></span>\n\n<ul>\n	<li>Logo placed on all marketing including 4th of July guide &amp\; T-shirts</li>\n	<li>Logo represented on Patriot banner in the parade and at the event</li>\n	<li>Logo included in &lsquo\;Thank You&rsquo\; newspaper ad after event</li>\n</ul>\n<span style="color:#B22222\;"><strong>Stars &amp\; Stripes Sponsor: $500-$999 (Multiple available)</strong></span>\n\n<ul>\n	<li>Small logo placed on all marketing including 4th of July guide &amp\; T-shirts</li>\n	<li>Small logo represented on Stars &amp\; Stripes banner in the parade and at the event</li>\n	<li>Small logo included in &lsquo\;Thank You&rsquo\; newspaper ad after event</li>\n</ul>\n<u><strong>Available Sponsor Items:</strong></u><br />\n<span style="color:#0000CD\;"><strong>Fireworks Sponsor: $7000 (Only 1 available)</strong></span>\n\n<ul>\n	<li>Large logo on banner in parade and at the event\; Verbal recognition before fireworks</li>\n	<li>Large Logo placed on all marketing including 4th of July guide &amp\; T-shirts</li>\n	<li>All Independence Sponsor level benefits</li>\n</ul>\n<strong><span style="color:#0000CD\;">Live Music Sponsor: $1500 (Call for specific band availability)</span></strong>\n\n<ul>\n	<li>Logo on Band banner next to stage and in the parade (based on available walkers)</li>\n	<li>All Patriot Level Sponsor benefits</li>\n	<li>Bands include: Shotgun Jane\, Best Practice\, The Retro Specz\, Kings of Radio</li>\n</ul>\n<span style="color:#0000CD\;"><strong>Family Entertainment Sponsor: $300 (Call for specific availability)</strong></span>\n\n<ul>\n	<li>Logo on banner next to Family stage and in the parade (based on availability)</li>\n	<li>Opportunities include: Doodle Bug the clown\, Doug The Jug\, Car show\, Inflatables</li>\n</ul>\n<span style="color:#0000CD\;"><strong>Parade Sponsor: $150 (Call for specific availability)</strong></span>\n\n<ul>\n	<li>Logo on banner next to family stage and in the parade (based on availability)</li>\n	<li>Opportunities include: Sun Prairie Community band\, Prairie Thunder Cloggers\, Stilt Walkers\, Madison Pipes &amp\; Drums</li>\n</ul>\n
LOCATION:DeForest Fireman's Park
UID:e.841.638
SEQUENCE:3
DTSTAMP:20260424T210813Z
URL:http://business.deforestarea.com/events/details/4th-of-july-celebration-2016-sponsorship-07-03-2016-638
END:VEVENT

END:VCALENDAR
